Workbook

Sheet Basic Sales Dashboard
A1: BASIC SALES DASHBOARD
A2: Monthly and regional performance overview — live from SalesTransactions
A3: Top Salesperson | B3: =INDEX(_xlfn.ANCHORARRAY(F7),MATCH(MAX(_xlfn.ANCHORARRAY(H7)),_xlfn.ANCHORARRAY(H7),0)) -> Priya | E3: Top Sales | F3: =MAX(_xlfn.ANCHORARRAY(H7)) -> 7000
A5: MONTHLY SALES BY REGION | F5: SALESPERSON LEADERBOARD
A6: Month | B6: West | C6: East | D6: Total | F6: Salesperson | G6: Region | H6: Total Sales
A7: =DATE(2026,1,1) -> 46023 | B7: =SUMIFS('Sales Data'!$D:$D,'Sales Data'!$C:$C,B$6,'Sales Data'!$A:$A,">="&$A7,'Sales Data'!$A:$A,"<"&EDATE($A7,1)) -> 7000 | C7: =SUMIFS('Sales Data'!$D:$D,'Sales Data'!$C:$C,C$6,'Sales Data'!$A:$A,">="&$A7,'Sales Data'!$A:$A,"<"&EDATE($A7,1)) -> 3100 | D7: =SUM(B7:C7) -> 10100 | F7: {=_xlfn._xlws.SORT(_xlfn.UNIQUE(SalesTransactions[Salesperson]))} -> Marcus | G7: {=_xlfn.XLOOKUP(_xlfn.ANCHORARRAY(F7),SalesTransactions[Salesperson],SalesTransactions[Region],"")} -> East | H7: {=SUMIF(SalesTransactions[Salesperson],_xlfn.ANCHORARRAY(F7),SalesTransactions[Amount])} -> 3100
A8: =EDATE(A7,1) -> 46054 | B8: =SUMIFS('Sales Data'!$D:$D,'Sales Data'!$C:$C,B$6,'Sales Data'!$A:$A,">="&$A8,'Sales Data'!$A:$A,"<"&EDATE($A8,1)) -> 0 | C8: =SUMIFS('Sales Data'!$D:$D,'Sales Data'!$C:$C,C$6,'Sales Data'!$A:$A,">="&$A8,'Sales Data'!$A:$A,"<"&EDATE($A8,1)) -> 0 | D8: =SUM(B8:C8) -> 0 | F8: Priya | G8: West | H8: 7000
A9: =EDATE(A8,1) -> 46082 | B9: =SUMIFS('Sales Data'!$D:$D,'Sales Data'!$C:$C,B$6,'Sales Data'!$A:$A,">="&$A9,'Sales Data'!$A:$A,"<"&EDATE($A9,1)) -> 0 | C9: =SUMIFS('Sales Data'!$D:$D,'Sales Data'!$C:$C,C$6,'Sales Data'!$A:$A,">="&$A9,'Sales Data'!$A:$A,"<"&EDATE($A9,1)) -> 0 | D9: =SUM(B9:C9) -> 0
A10: =EDATE(A9,1) -> 46113 | B10: =SUMIFS('Sales Data'!$D:$D,'Sales Data'!$C:$C,B$6,'Sales Data'!$A:$A,">="&$A10,'Sales Data'!$A:$A,"<"&EDATE($A10,1)) -> 0 | C10: =SUMIFS('Sales Data'!$D:$D,'Sales Data'!$C:$C,C$6,'Sales Data'!$A:$A,">="&$A10,'Sales Data'!$A:$A,"<"&EDATE($A10,1)) -> 0 | D10: =SUM(B10:C10) -> 0
A11: =EDATE(A10,1) -> 46143 | B11: =SUMIFS('Sales Data'!$D:$D,'Sales Data'!$C:$C,B$6,'Sales Data'!$A:$A,">="&$A11,'Sales Data'!$A:$A,"<"&EDATE($A11,1)) -> 0 | C11: =SUMIFS('Sales Data'!$D:$D,'Sales Data'!$C:$C,C$6,'Sales Data'!$A:$A,">="&$A11,'Sales Data'!$A:$A,"<"&EDATE($A11,1)) -> 0 | D11: =SUM(B11:C11) -> 0
A12: =EDATE(A11,1) -> 46174 | B12: =SUMIFS('Sales Data'!$D:$D,'Sales Data'!$C:$C,B$6,'Sales Data'!$A:$A,">="&$A12,'Sales Data'!$A:$A,"<"&EDATE($A12,1)) -> 0 | C12: =SUMIFS('Sales Data'!$D:$D,'Sales Data'!$C:$C,C$6,'Sales Data'!$A:$A,">="&$A12,'Sales Data'!$A:$A,"<"&EDATE($A12,1)) -> 0 | D12: =SUM(B12:C12) -> 0
A13: =EDATE(A12,1) -> 46204 | B13: =SUMIFS('Sales Data'!$D:$D,'Sales Data'!$C:$C,B$6,'Sales Data'!$A:$A,">="&$A13,'Sales Data'!$A:$A,"<"&EDATE($A13,1)) -> 0 | C13: =SUMIFS('Sales Data'!$D:$D,'Sales Data'!$C:$C,C$6,'Sales Data'!$A:$A,">="&$A13,'Sales Data'!$A:$A,"<"&EDATE($A13,1)) -> 0 | D13: =SUM(B13:C13) -> 0
A14: =EDATE(A13,1) -> 46235 | B14: =SUMIFS('Sales Data'!$D:$D,'Sales Data'!$C:$C,B$6,'Sales Data'!$A:$A,">="&$A14,'Sales Data'!$A:$A,"<"&EDATE($A14,1)) -> 0 | C14: =SUMIFS('Sales Data'!$D:$D,'Sales Data'!$C:$C,C$6,'Sales Data'!$A:$A,">="&$A14,'Sales Data'!$A:$A,"<"&EDATE($A14,1)) -> 0 | D14: =SUM(B14:C14) -> 0
A15: =EDATE(A14,1) -> 46266 | B15: =SUMIFS('Sales Data'!$D:$D,'Sales Data'!$C:$C,B$6,'Sales Data'!$A:$A,">="&$A15,'Sales Data'!$A:$A,"<"&EDATE($A15,1)) -> 0 | C15: =SUMIFS('Sales Data'!$D:$D,'Sales Data'!$C:$C,C$6,'Sales Data'!$A:$A,">="&$A15,'Sales Data'!$A:$A,"<"&EDATE($A15,1)) -> 0 | D15: =SUM(B15:C15) -> 0
A16: =EDATE(A15,1) -> 46296 | B16: =SUMIFS('Sales Data'!$D:$D,'Sales Data'!$C:$C,B$6,'Sales Data'!$A:$A,">="&$A16,'Sales Data'!$A:$A,"<"&EDATE($A16,1)) -> 0 | C16: =SUMIFS('Sales Data'!$D:$D,'Sales Data'!$C:$C,C$6,'Sales Data'!$A:$A,">="&$A16,'Sales Data'!$A:$A,"<"&EDATE($A16,1)) -> 0 | D16: =SUM(B16:C16) -> 0
A17: =EDATE(A16,1) -> 46327 | B17: =SUMIFS('Sales Data'!$D:$D,'Sales Data'!$C:$C,B$6,'Sales Data'!$A:$A,">="&$A17,'Sales Data'!$A:$A,"<"&EDATE($A17,1)) -> 0 | C17: =SUMIFS('Sales Data'!$D:$D,'Sales Data'!$C:$C,C$6,'Sales Data'!$A:$A,">="&$A17,'Sales Data'!$A:$A,"<"&EDATE($A17,1)) -> 0 | D17: =SUM(B17:C17) -> 0
A18: =EDATE(A17,1) -> 46357 | B18: =SUMIFS('Sales Data'!$D:$D,'Sales Data'!$C:$C,B$6,'Sales Data'!$A:$A,">="&$A18,'Sales Data'!$A:$A,"<"&EDATE($A18,1)) -> 0 | C18: =SUMIFS('Sales Data'!$D:$D,'Sales Data'!$C:$C,C$6,'Sales Data'!$A:$A,">="&$A18,'Sales Data'!$A:$A,"<"&EDATE($A18,1)) -> 0 | D18: =SUM(B18:C18) -> 0
A19: STORY IN BRIEF
A20: =B3&" leads with "&TEXT(F3,"$#,##0")&". The transaction log totals "&TEXT(SUM(SalesTransactions[Amount]),"$#,##0")&" across "&ROWS(SalesTransactions[Amount])&" transactions. Monthly, regional, leaderboard, and PivotTable views refresh from the source table." -> Priya leads with $7,000. The transaction log totals $10,100 across 3 transactions. Monthly, regional, leaderboard, and PivotTable views refresh from the source table. | F20: TOTAL SALES PER MONTH
A23: SALES BY PERSON AND REGION
A24: Total Sales | B24: Region
A25: Salesperson | B25: East | C25: West | D25: Grand Total
A26: Marcus | B26: 3100 | D26: 3100
A27: Priya | C27: 7000 | D27: 7000
A28: Grand Total | B28: 3100 | C28: 7000 | D28: 10100

Sheet Sales Data
A1: Sample Data
A2: Date | B2: Salesperson | C2: Region | D2: Amount
A3: 46026 | B3: Priya | C3: West | D3: 4200
A4: 46033 | B4: Marcus | C4: East | D4: 3100
A5: 46041 | B5: Priya | C5: West | D5: 2800
